BEGIN:VCALENDAR
PRODID:-//AT Content Types//AT Event//EN
VERSION:2.0
METHOD:PUBLISH
BEGIN:VEVENT
DTSTAMP:20260426T030047Z
CREATED:20120109T201120Z
UID:ATEvent-e789db34-c256-4485-a306-542baacbcdb8
LAST-MODIFIED:20120109T201305Z
SUMMARY:Raheny Heritage Society - AGM - 8pm in Raheny Court
DTSTART:20120125T200000Z
DTEND:20120125T220000Z
CLASS:PUBLIC
END:VEVENT
END:VCALENDAR
