BEGIN:VCALENDAR
PRODID:-//AT Content Types//AT Event//EN
VERSION:2.0
METHOD:PUBLISH
BEGIN:VEVENT
DTSTAMP:20260426T025717Z
CREATED:20120324T211626Z
UID:ATEvent-61cd7d5d-997b-4ae2-bae6-f964cab1a825
LAST-MODIFIED:20121009T225458Z
SUMMARY:IFHS - All Day Seminar
DTSTART:20121103T100000Z
DTEND:20121103T170000Z
DESCRIPTION:Details to follow
URL:http://www.ifhs.ie
CLASS:PUBLIC
END:VEVENT
END:VCALENDAR
