BEGIN:VCALENDAR
PRODID:-//AT Content Types//AT Event//EN
VERSION:2.0
METHOD:PUBLISH
BEGIN:VEVENT
DTSTAMP:20260426T025655Z
CREATED:20120315T223932Z
UID:ATEvent-245f5b5a-b72a-454f-8396-0d8834be9001
LAST-MODIFIED:20120315T223959Z
SUMMARY:Evening Lecture by Michael Hurley
DTSTART:20120321T200000Z
DTEND:20120321T213000Z
DESCRIPTION:The talk will be entitled FROM PORTMARNOCK STATION TO HOWT
 H HARBOUR
CLASS:PUBLIC
END:VEVENT
END:VCALENDAR
